BEGIN:VCALENDAR
VERSION:2.0
PRODID:-//hacksw/handcal//NONSGML v1.0//EN
BEGIN:VEVENT
DTSTART:20140517T173000
DTEND:20140518T040000
LOCATION:Casino le Lyon Vert \nDomaine Le Lyon Vert - 200 avenue du Casino \n69890 La Tour de Salvigny
ORGANIZER;CN=Nelly RAVILLARD:MAILTO:n.ravillard@ifag-alumni.com
SUMMARY:Gala IFAG LYON - 17 Mai 2014
DESCRIPTION: \n \nEvénement\n17 Mai 2014\n \nGala IFAG Lyon\n \n \nCher IFAGuien(ne)s,\n \nParticipe à une soirée d’exception le 17 Mai à l’occasion du Gala IFAG LYON.\n \n \nPrésentation de...
URL:https://www.ifag-alumni.com/fr/event/gala-ifag-lyon-17-mai-2014/2014/05/17/49
BEGIN:VALARM
TRIGGER:-P0DT1H0M0S
ACTION:DISPLAY
END:VALARM
END:VEVENT
END:VCALENDAR